BEGIN:VCALENDAR
PRODID:-
VERSION:2.0
METHOD:PUBLISH
BEGIN:VEVENT
ORGANIZER:MAILTO:
DTSTART:20260408T120000Z
DTEND:20260408T140000Z
LOCATION:Lab207 - Second Floor Levy Mwanawasa
TRANSP:OPAQUE
SEQUENCE:0
UID:KB-155759656
DTSTAMP:20260422T142500Z
DESCRIPTION:Kennedy Banda (Mr) BMM21 - Bachelor of Science in Marketing Management Second Year
SUMMARY:[Kennedy Banda (Mr)] BBA2301 - Service Marketing
X-MICROSOFT-CDO-IMPORTANCE:1
CLASS:PUBLIC
PRIORITY:5
END:VEVENT
BEGIN:VEVENT
ORGANIZER:MAILTO:
DTSTART:20260411T120000Z
DTEND:20260411T140000Z
LOCATION:Lab210 - Second Floor Levy Mwanawasa Building
TRANSP:OPAQUE
SEQUENCE:0
UID:KB-155825195
DTSTAMP:20260422T142500Z
DESCRIPTION:Kennedy Banda (Mr) BMM21 - Bachelor of Science in Marketing Management Second Year
SUMMARY:[Kennedy Banda (Mr)] BBA2301 - Service Marketing
X-MICROSOFT-CDO-IMPORTANCE:1
CLASS:PUBLIC
PRIORITY:5
END:VEVENT
BEGIN:VEVENT
ORGANIZER:MAILTO:
DTSTART:20260411T153000Z
DTEND:20260411T180000Z
LOCATION:Room 7 - George Sokota Building
TRANSP:OPAQUE
SEQUENCE:0
UID:KB-155890731
DTSTAMP:20260422T142500Z
DESCRIPTION:Kennedy Banda (Mr) BMM21 - Bachelor of Science in Marketing Management Second Year
SUMMARY:[Kennedy Banda (Mr)] BBA2301 - Service Marketing
X-MICROSOFT-CDO-IMPORTANCE:1
CLASS:PUBLIC
PRIORITY:5
END:VEVENT
END:VCALENDAR
